BEGIN:VCALENDAR
VERSION:2.0
PRODID:-//OHF - ECPv6.15.20//NONSGML v1.0//EN
CALSCALE:GREGORIAN
METHOD:PUBLISH
X-WR-CALNAME:OHF
X-ORIGINAL-URL:https://ohf.org
X-WR-CALDESC:Events for OHF
REFRESH-INTERVAL;VALUE=DURATION:PT1H
X-Robots-Tag:noindex
X-PUBLISHED-TTL:PT1H
BEGIN:VTIMEZONE
TZID:America/New_York
BEGIN:DAYLIGHT
TZOFFSETFROM:-0500
TZOFFSETTO:-0400
TZNAME:EDT
DTSTART:20220313T070000
END:DAYLIGHT
BEGIN:STANDARD
TZOFFSETFROM:-0400
TZOFFSETTO:-0500
TZNAME:EST
DTSTART:20221106T060000
END:STANDARD
BEGIN:DAYLIGHT
TZOFFSETFROM:-0500
TZOFFSETTO:-0400
TZNAME:EDT
DTSTART:20230312T070000
END:DAYLIGHT
BEGIN:STANDARD
TZOFFSETFROM:-0400
TZOFFSETTO:-0500
TZNAME:EST
DTSTART:20231105T060000
END:STANDARD
BEGIN:DAYLIGHT
TZOFFSETFROM:-0500
TZOFFSETTO:-0400
TZNAME:EDT
DTSTART:20240310T070000
END:DAYLIGHT
BEGIN:STANDARD
TZOFFSETFROM:-0400
TZOFFSETTO:-0500
TZNAME:EST
DTSTART:20241103T060000
END:STANDARD
BEGIN:DAYLIGHT
TZOFFSETFROM:-0500
TZOFFSETTO:-0400
TZNAME:EDT
DTSTART:20250309T070000
END:DAYLIGHT
BEGIN:STANDARD
TZOFFSETFROM:-0400
TZOFFSETTO:-0500
TZNAME:EST
DTSTART:20251102T060000
END:STANDARD
BEGIN:DAYLIGHT
TZOFFSETFROM:-0500
TZOFFSETTO:-0400
TZNAME:EDT
DTSTART:20260308T070000
END:DAYLIGHT
BEGIN:STANDARD
TZOFFSETFROM:-0400
TZOFFSETTO:-0500
TZNAME:EST
DTSTART:20261101T060000
END:STANDARD
END:VTIMEZONE
BEGIN:VEVENT
DTSTART;VALUE=DATE:20230228
DTEND;VALUE=DATE:20230304
DTSTAMP:20260419T103220
CREATED:20220717T193320Z
LAST-MODIFIED:20220717T193433Z
UID:622-1677542400-1677887999@ohf.org
SUMMARY:Rare Disease Week
DESCRIPTION:
URL:https://ohf.org/event/rare-disease-week/
LOCATION:TN
END:VEVENT
BEGIN:VEVENT
DTSTART;VALUE=DATE:20230623
DTEND;VALUE=DATE:20230626
DTSTAMP:20260419T103220
CREATED:20220929T202239Z
LAST-MODIFIED:20220929T202239Z
UID:750-1687478400-1687737599@ohf.org
SUMMARY:14th OHF International Hyperoxaluria Workshop
DESCRIPTION:Join the 14th International Hyperoxaluria Workshop\, the largest hyperoxaluria professional and patient event worldwide. The workshop is an unrivaled opportunity to network and exchange invaluable knowledge with all stakeholders in the hyperoxaluria community— patients\, caregivers\, researchers\, clinicians\, and industry representatives. \nPeople living with a rare disease have the right to reach their highest potential of well-being; join us in 2023 to take part in the discussions to better Diagnose\, Discover\, Treat\, Educate and build the future for all with hyperoxaluria.
URL:https://ohf.org/event/14th-ohf-international-hyperoxaluria-workshop/
LOCATION:TN
END:VEVENT
BEGIN:VEVENT
DTSTART;TZID=America/New_York:20250627T170000
DTEND;TZID=America/New_York:20250629T200000
DTSTAMP:20260419T103220
CREATED:20230720T162249Z
LAST-MODIFIED:20250307T014349Z
UID:1280-1751043600-1751227200@ohf.org
SUMMARY:In-Person Patient & Family Summit
DESCRIPTION:Join patients\, families\, experts\, researchers\, and clinicians to connect\, learn\, and grow. Get ready for a day filled with inspiration\, learning\, and heartfelt connections. Renowned experts will share their wisdom\, researchers will unveil exciting discoveries\, and compassionate clinicians will be there to guide us. This is your chance to gain the latest insights on hyperoxaluria\, empowering you with knowledge to navigate your journey. Learn more about the event here.
URL:https://ohf.org/event/in-person-patient-family-summit/
LOCATION:Nashville\, TN\, Nashville\, TN
END:VEVENT
END:VCALENDAR